Workbook

Sheet Riepilogo
A1: Scadenzario fatture
A2: Aggiornato a oggi; i numeri vengono dai fogli Emesse e Ricevute.
A4: Crediti aperti (fatture emesse) | B4: =Emesse!G66
A5: di cui scaduti | B5: =Emesse!G67
A6: in scadenza entro 7 giorni | B6: =Emesse!G68
A7: Debiti aperti (fatture ricevute) | B7: =Ricevute!G66
A8: di cui scaduti | B8: =Ricevute!G67
A9: da pagare entro 7 giorni | B9: =Ricevute!G68
A10: Saldo atteso a 7 giorni | B10: =B6-B9
A13: Come usarlo: ogni fattura emessa va nel foglio Emesse con la scadenza. Il foglio calcola residuo, giorni di ritardo e le tre date dei solleciti. Le righe in giallo scadono entro una settimana, in rosso hanno più di dieci giorni di ritardo.
A15: Modello gratuito di BUILDER, thebuilder.studio.

Sheet Emesse
A1: Fatture emesse: incassi e solleciti
A2: Regola: primo sollecito tre giorni prima della scadenza (promemoria gentile), secondo alla scadenza, terzo tre giorni dopo. Oltre i dieci giorni si telefona. Le date si calcolano da sole dalla scadenza.
A4: Numero | B4: Cliente | C4: Data | D4: Scadenza | E4: Importo | F4: Incassato | G4: Residuo | H4: Ritardo gg | I4: Sollecito 1 | J4: Sollecito 2 | K4: Sollecito 3 | L4: Note e accordi
G5: =IF(E5="","",E5-F5) | H5: =IF(OR(D5="",G5<=0),"",MAX(0,TODAY()-D5)) | I5: =IF(D5="","",D5-3) | J5: =IF(D5="","",D5) | K5: =IF(D5="","",D5+3)
G6: =IF(E6="","",E6-F6) | H6: =IF(OR(D6="",G6<=0),"",MAX(0,TODAY()-D6)) | I6: =IF(D6="","",D6-3) | J6: =IF(D6="","",D6) | K6: =IF(D6="","",D6+3)
G7: =IF(E7="","",E7-F7) | H7: =IF(OR(D7="",G7<=0),"",MAX(0,TODAY()-D7)) | I7: =IF(D7="","",D7-3) | J7: =IF(D7="","",D7) | K7: =IF(D7="","",D7+3)
G8: =IF(E8="","",E8-F8) | H8: =IF(OR(D8="",G8<=0),"",MAX(0,TODAY()-D8)) | I8: =IF(D8="","",D8-3) | J8: =IF(D8="","",D8) | K8: =IF(D8="","",D8+3)
G9: =IF(E9="","",E9-F9) | H9: =IF(OR(D9="",G9<=0),"",MAX(0,TODAY()-D9)) | I9: =IF(D9="","",D9-3) | J9: =IF(D9="","",D9) | K9: =IF(D9="","",D9+3)
G10: =IF(E10="","",E10-F10) | H10: =IF(OR(D10="",G10<=0),"",MAX(0,TODAY()-D10)) | I10: =IF(D10="","",D10-3) | J10: =IF(D10="","",D10) | K10: =IF(D10="","",D10+3)
G11: =IF(E11="","",E11-F11) | H11: =IF(OR(D11="",G11<=0),"",MAX(0,TODAY()-D11)) | I11: =IF(D11="","",D11-3) | J11: =IF(D11="","",D11) | K11: =IF(D11="","",D11+3)
G12: =IF(E12="","",E12-F12) | H12: =IF(OR(D12="",G12<=0),"",MAX(0,TODAY()-D12)) | I12: =IF(D12="","",D12-3) | J12: =IF(D12="","",D12) | K12: =IF(D12="","",D12+3)
G13: =IF(E13="","",E13-F13) | H13: =IF(OR(D13="",G13<=0),"",MAX(0,TODAY()-D13)) | I13: =IF(D13="","",D13-3) | J13: =IF(D13="","",D13) | K13: =IF(D13="","",D13+3)
G14: =IF(E14="","",E14-F14) | H14: =IF(OR(D14="",G14<=0),"",MAX(0,TODAY()-D14)) | I14: =IF(D14="","",D14-3) | J14: =IF(D14="","",D14) | K14: =IF(D14="","",D14+3)
G15: =IF(E15="","",E15-F15) | H15: =IF(OR(D15="",G15<=0),"",MAX(0,TODAY()-D15)) | I15: =IF(D15="","",D15-3) | J15: =IF(D15="","",D15) | K15: =IF(D15="","",D15+3)
G16: =IF(E16="","",E16-F16) | H16: =IF(OR(D16="",G16<=0),"",MAX(0,TODAY()-D16)) | I16: =IF(D16="","",D16-3) | J16: =IF(D16="","",D16) | K16: =IF(D16="","",D16+3)
... G64: =IF(E64="","",E64-F64) | H64: =IF(OR(D64="",G64<=0),"",MAX(0,TODAY()-D64)) | I64: =IF(D64="","",D64-3) | J64: =IF(D64="","",D64) | K64: =IF(D64="","",D64+3)
B66: Totale aperto | G66: =SUM(G5:G64)
B67: Scaduto | G67: =SUMIFS(G5:G64,D5:D64,"<"&TODAY())
B68: In scadenza entro 7 giorni | G68: =SUMIFS(G5:G64,D5:D64,">="&TODAY(),D5:D64,"<="&TODAY()+7)

Sheet Ricevute
A1: Fatture ricevute: pagamenti
A2: Le fatture ricevute si registrano con la scadenza; il foglio dice cosa va pagato questa settimana e cosa è già scaduto.
A4: Numero | B4: Fornitore | C4: Data | D4: Scadenza | E4: Importo | F4: Pagato | G4: Residuo | H4: Ritardo gg | I4: Sollecito 1 | J4: Sollecito 2 | K4: Sollecito 3 | L4: Note e accordi
G5: =IF(E5="","",E5-F5) | H5: =IF(OR(D5="",G5<=0),"",MAX(0,TODAY()-D5)) | I5: =IF(D5="","",D5-3) | J5: =IF(D5="","",D5) | K5: =IF(D5="","",D5+3)
G6: =IF(E6="","",E6-F6) | H6: =IF(OR(D6="",G6<=0),"",MAX(0,TODAY()-D6)) | I6: =IF(D6="","",D6-3) | J6: =IF(D6="","",D6) | K6: =IF(D6="","",D6+3)
G7: =IF(E7="","",E7-F7) | H7: =IF(OR(D7="",G7<=0),"",MAX(0,TODAY()-D7)) | I7: =IF(D7="","",D7-3) | J7: =IF(D7="","",D7) | K7: =IF(D7="","",D7+3)
G8: =IF(E8="","",E8-F8) | H8: =IF(OR(D8="",G8<=0),"",MAX(0,TODAY()-D8)) | I8: =IF(D8="","",D8-3) | J8: =IF(D8="","",D8) | K8: =IF(D8="","",D8+3)
G9: =IF(E9="","",E9-F9) | H9: =IF(OR(D9="",G9<=0),"",MAX(0,TODAY()-D9)) | I9: =IF(D9="","",D9-3) | J9: =IF(D9="","",D9) | K9: =IF(D9="","",D9+3)
G10: =IF(E10="","",E10-F10) | H10: =IF(OR(D10="",G10<=0),"",MAX(0,TODAY()-D10)) | I10: =IF(D10="","",D10-3) | J10: =IF(D10="","",D10) | K10: =IF(D10="","",D10+3)
G11: =IF(E11="","",E11-F11) | H11: =IF(OR(D11="",G11<=0),"",MAX(0,TODAY()-D11)) | I11: =IF(D11="","",D11-3) | J11: =IF(D11="","",D11) | K11: =IF(D11="","",D11+3)
G12: =IF(E12="","",E12-F12) | H12: =IF(OR(D12="",G12<=0),"",MAX(0,TODAY()-D12)) | I12: =IF(D12="","",D12-3) | J12: =IF(D12="","",D12) | K12: =IF(D12="","",D12+3)
G13: =IF(E13="","",E13-F13) | H13: =IF(OR(D13="",G13<=0),"",MAX(0,TODAY()-D13)) | I13: =IF(D13="","",D13-3) | J13: =IF(D13="","",D13) | K13: =IF(D13="","",D13+3)
G14: =IF(E14="","",E14-F14) | H14: =IF(OR(D14="",G14<=0),"",MAX(0,TODAY()-D14)) | I14: =IF(D14="","",D14-3) | J14: =IF(D14="","",D14) | K14: =IF(D14="","",D14+3)
G15: =IF(E15="","",E15-F15) | H15: =IF(OR(D15="",G15<=0),"",MAX(0,TODAY()-D15)) | I15: =IF(D15="","",D15-3) | J15: =IF(D15="","",D15) | K15: =IF(D15="","",D15+3)
G16: =IF(E16="","",E16-F16) | H16: =IF(OR(D16="",G16<=0),"",MAX(0,TODAY()-D16)) | I16: =IF(D16="","",D16-3) | J16: =IF(D16="","",D16) | K16: =IF(D16="","",D16+3)
... G64: =IF(E64="","",E64-F64) | H64: =IF(OR(D64="",G64<=0),"",MAX(0,TODAY()-D64)) | I64: =IF(D64="","",D64-3) | J64: =IF(D64="","",D64) | K64: =IF(D64="","",D64+3)
B66: Totale aperto | G66: =SUM(G5:G64)
B67: Scaduto | G67: =SUMIFS(G5:G64,D5:D64,"<"&TODAY())
B68: In scadenza entro 7 giorni | G68: =SUMIFS(G5:G64,D5:D64,">="&TODAY(),D5:D64,"<="&TODAY()+7)
